BEGIN:VCALENDAR
VERSION:2.0
PRODID:-//Providence Baptist Church - ECPv6.6.4.2//NONSGML v1.0//EN
CALSCALE:GREGORIAN
METHOD:PUBLISH
X-WR-CALNAME:Providence Baptist Church
X-ORIGINAL-URL:https://providencealive.com
X-WR-CALDESC:Events for Providence Baptist Church
REFRESH-INTERVAL;VALUE=DURATION:PT1H
X-Robots-Tag:noindex
X-PUBLISHED-TTL:PT1H
BEGIN:VTIMEZONE
TZID:America/Chicago
BEGIN:DAYLIGHT
TZOFFSETFROM:-0600
TZOFFSETTO:-0500
TZNAME:CDT
DTSTART:20220313T080000
END:DAYLIGHT
BEGIN:STANDARD
TZOFFSETFROM:-0500
TZOFFSETTO:-0600
TZNAME:CST
DTSTART:20221106T070000
END:STANDARD
END:VTIMEZONE
BEGIN:VEVENT
DTSTART;TZID=America/Chicago:20220322T160000
DTEND;TZID=America/Chicago:20220322T180000
DTSTAMP:20260421T071922
CREATED:20220217T174640Z
LAST-MODIFIED:20220217T175701Z
UID:12084-1647964800-1647972000@providencealive.com
SUMMARY:PBC Kids Mission Adventure
DESCRIPTION:Spring Break Project for 3rd -6th graders\, we will go to the East Alabama Food Bank\, tour the facility and help out. \nContact Tammy Senn
URL:https://providencealive.com/event/pbc-kids-mission-adventure/
END:VEVENT
BEGIN:VEVENT
DTSTART;TZID=America/Chicago:20220323T110000
DTEND;TZID=America/Chicago:20220323T123000
DTSTAMP:20260421T071922
CREATED:20220217T175338Z
LAST-MODIFIED:20220217T175338Z
UID:12086-1648033200-1648038600@providencealive.com
SUMMARY:PBC Kids Service Adventure
DESCRIPTION:Spring Break Service Adventure for K-6th graders\, help with the Community Luncheon. \nContact Tammy Senn
URL:https://providencealive.com/event/pbc-kids-service-adventure/
END:VEVENT
BEGIN:VEVENT
DTSTART;TZID=America/Chicago:20220323T113000
DTEND;TZID=America/Chicago:20220323T123000
DTSTAMP:20260421T071922
CREATED:20220208T180751Z
LAST-MODIFIED:20220208T180938Z
UID:12062-1648035000-1648038600@providencealive.com
SUMMARY:Spring Community Luncheon
DESCRIPTION:The March Community Luncheon will be held on the 4th Wednesday\, during Spring Break for our Lee County children. Our PBC Kids will be joining us.\nIf you are not comfortable dining in\, you are welcome to get a take-out. \n11:00 a.m. coffee/fellowship\n11:30 a.m. meal \nWest Campus \n(Next month we return to the 3rd Wednesday of each month)
URL:https://providencealive.com/event/spring-community-luncheon/
END:VEVENT
BEGIN:VEVENT
DTSTART;TZID=America/Chicago:20220324T110000
DTEND;TZID=America/Chicago:20220324T140000
DTSTAMP:20260421T071922
CREATED:20220217T175021Z
LAST-MODIFIED:20220217T175516Z
UID:12085-1648119600-1648130400@providencealive.com
SUMMARY:PBC Kids Fun Adventure
DESCRIPTION:Spring Break Fun Adventure for K-6th students\, we will go to the new Crumbl Cookie\, then come back to the West Campus for a movie. \nContact Tammy Senn
URL:https://providencealive.com/event/pbc-kids-fun-adventure/
END:VEVENT
BEGIN:VEVENT
DTSTART;TZID=America/Chicago:20220408T180000
DTEND;TZID=America/Chicago:20220408T200000
DTSTAMP:20260421T071922
CREATED:20220310T181142Z
LAST-MODIFIED:20220310T181142Z
UID:12109-1649440800-1649448000@providencealive.com
SUMMARY:WOVEN Spuds and Splatters
DESCRIPTION:Baked Potato Bar and Painting Party. We will be painting a beautiful spring picture\, a field full of dandelions. Limited space\, please sign up early. No experience is necessary. \nWOVEN: Women of Vine Encouraging and Nurturing \nWOVEN at Providence on Facebook \n 
URL:https://providencealive.com/event/woven-spuds-and-splatters/
END:VEVENT
BEGIN:VEVENT
DTSTART;TZID=America/Chicago:20220414T160000
DTEND;TZID=America/Chicago:20220414T200000
DTSTAMP:20260421T071922
CREATED:20220310T185933Z
LAST-MODIFIED:20220414T164831Z
UID:12111-1649952000-1649966400@providencealive.com
SUMMARY:Simply Still Passion Week Observation
DESCRIPTION:Open to everyone\, Simply Still is a music and visual worship experience that will lead worshippers through the footsteps of Jesus\, from Palm Sunday through the Resurrection. The program is about 45 minutes in length.  Starts at 4PM\, 5PM\, 6PM\, 7PM\, 8PM. Hosted by WOVEN in the PBC East Campus Sanctuary
URL:https://providencealive.com/event/simply-still-passion-week-observation/
END:VEVENT
BEGIN:VEVENT
DTSTART;TZID=America/Chicago:20220416T100000
DTEND;TZID=America/Chicago:20220416T113000
DTSTAMP:20260421T071922
CREATED:20220404T193022Z
LAST-MODIFIED:20220404T193029Z
UID:12134-1650103200-1650108600@providencealive.com
SUMMARY:PBC Kid's EGG-STRA Fun
DESCRIPTION:Join us for an EGG-STRA fun time. We will have some fun activities planned for kids Pre/K – 6th Grade. Parents are welcome to stay or you may drop them off! We will meet in the Fellowship Hall of the East Campus.
URL:https://providencealive.com/event/pbc-kids-egg-stra-fun/
END:VEVENT
BEGIN:VEVENT
DTSTART;TZID=America/Chicago:20220417T080000
DTEND;TZID=America/Chicago:20220417T104500
DTSTAMP:20260421T071922
CREATED:20220404T200151Z
LAST-MODIFIED:20220404T200151Z
UID:12135-1650182400-1650192300@providencealive.com
SUMMARY:EASTER SUNDAY
DESCRIPTION:We will observe communion at both the 8:00 AM Service and the 10:45 AM Sevice. Both services will be at the West Campus.  Sunday School will meet at 9:30 a.m. as usual.
URL:https://providencealive.com/event/easter-sunday/
END:VEVENT
BEGIN:VEVENT
DTSTART;TZID=America/Chicago:20220419T180000
DTEND;TZID=America/Chicago:20220419T193000
DTSTAMP:20260421T071922
CREATED:20220404T192634Z
LAST-MODIFIED:20220404T192634Z
UID:12132-1650391200-1650396600@providencealive.com
SUMMARY:Pacesetter's Cracker Barrel
DESCRIPTION:Pacesetter’s Meet and Eat at Cracker Barrel in Opelika. Let us know if you plan to ride the church bus. \nContact: Deana Stone \n  \n 
URL:https://providencealive.com/event/pacesetters-cracker-barrel/
END:VEVENT
BEGIN:VEVENT
DTSTART;TZID=America/Chicago:20220420T113000
DTEND;TZID=America/Chicago:20220420T123000
DTSTAMP:20260421T071922
CREATED:20220208T181526Z
LAST-MODIFIED:20220208T181555Z
UID:12065-1650454200-1650457800@providencealive.com
SUMMARY:Community Luncheon
DESCRIPTION:Community Luncheons meet on the third Wednesday of each month. All food will be provided. \n11:00 a.m. coffee/fellowship\n11:30 a.m. meal \nWest Campus \nCommunity Luncheon
URL:https://providencealive.com/event/community-luncheon-15/
END:VEVENT
BEGIN:VEVENT
DTSTART;TZID=America/Chicago:20220501T080000
DTEND;TZID=America/Chicago:20220501T170000
DTSTAMP:20260421T071922
CREATED:20220208T181739Z
LAST-MODIFIED:20220510T204930Z
UID:12066-1651392000-1651424400@providencealive.com
SUMMARY:Senior Adult Day
DESCRIPTION:Honoring our Senior Adults and all they have done and continue to do for the Providence family.
URL:https://providencealive.com/event/senior-adult-day/
END:VEVENT
BEGIN:VEVENT
DTSTART;TZID=America/Chicago:20220501T170000
DTEND;TZID=America/Chicago:20220501T180000
DTSTAMP:20260421T071922
CREATED:20220510T210928Z
LAST-MODIFIED:20220510T211216Z
UID:12179-1651424400-1651428000@providencealive.com
SUMMARY:Ladies Study Lies Women Believe 5/1 - 8/7
DESCRIPTION:Bible study for women: The lies Women Believe and the Truth that Sets them Free\, Nancy Wolgemuth exposes those areas of deception most commonly believed by Christian women\, lies about God\, sin\, priorities\, marriage and family\, emotion\, and more. This study will run through the summer and meets in the fellowship hall. Lynda Caswell\, WOVEN
URL:https://providencealive.com/event/ladies-study-lies-women-believe/
END:VEVENT
BEGIN:VEVENT
DTSTART;TZID=America/Chicago:20220514T100000
DTEND;TZID=America/Chicago:20220514T120000
DTSTAMP:20260421T071922
CREATED:20220510T210141Z
LAST-MODIFIED:20220510T210149Z
UID:12178-1652522400-1652529600@providencealive.com
SUMMARY:Personal Safety and Awareness Workshop
DESCRIPTION:Women and teens\, Officer Chandler Guy will be teaching women what makes them an easier target\, strategies for safety\, and maneuvers for self-defense.  Sign up on WOVEN page
URL:https://providencealive.com/event/personal-safety-and-awareness-workshop/
END:VEVENT
BEGIN:VEVENT
DTSTART;TZID=America/Chicago:20220518T113000
DTEND;TZID=America/Chicago:20220518T123000
DTSTAMP:20260421T071922
CREATED:20220208T181846Z
LAST-MODIFIED:20220208T181846Z
UID:12068-1652873400-1652877000@providencealive.com
SUMMARY:Community Luncheon
DESCRIPTION:Community Luncheons meet on the third Wednesday of each month. All food will be provided. \n11:00 a.m. coffee/fellowship\n11:30 a.m. meal \nWest Campus \nCommunity Luncheon
URL:https://providencealive.com/event/community-luncheon-16/
END:VEVENT
BEGIN:VEVENT
DTSTART;TZID=America/Chicago:20220520T103000
DTEND;TZID=America/Chicago:20220520T133000
DTSTAMP:20260421T071922
CREATED:20220510T211731Z
LAST-MODIFIED:20220510T211804Z
UID:12196-1653042600-1653053400@providencealive.com
SUMMARY:Pacesetters Meet and Eat Ezells
DESCRIPTION:Senior Adults will eat at Ezell’s in Phenix City. The bus will leave PBC at 10:30 a.m. Please let Deanna Stone know if you plan to go and if you plan to ride the bus (334) 745-4608. Eat at approximately 12:00 Eastern Time
URL:https://providencealive.com/event/pacesetters-meet-and-eat/
END:VEVENT
BEGIN:VEVENT
DTSTART;TZID=America/Chicago:20220522T104500
DTEND;TZID=America/Chicago:20220522T114500
DTSTAMP:20260421T071922
CREATED:20220510T211355Z
LAST-MODIFIED:20220510T211355Z
UID:12194-1653216300-1653219900@providencealive.com
SUMMARY:Graduate Recognition
DESCRIPTION:Providence graduates join us at the 10:45 a.m. Worship Service\, West Campus
URL:https://providencealive.com/event/graduate-recognition/
END:VEVENT
BEGIN:VEVENT
DTSTART;TZID=America/Chicago:20220522T180000
DTEND;TZID=America/Chicago:20220522T180000
DTSTAMP:20260421T071922
CREATED:20220510T205143Z
LAST-MODIFIED:20220510T205237Z
UID:12176-1653242400-1653242400@providencealive.com
SUMMARY:Baccalaureate
DESCRIPTION:Baccalaureate for Beauregard High School (West Campus)
URL:https://providencealive.com/event/baccalaureate/
END:VEVENT
BEGIN:VEVENT
DTSTART;TZID=America/Chicago:20220525T153000
DTEND;TZID=America/Chicago:20220525T183000
DTSTAMP:20260421T071922
CREATED:20220510T212140Z
LAST-MODIFIED:20220510T212140Z
UID:12197-1653492600-1653503400@providencealive.com
SUMMARY:LifeSouth Blood Drive West Campus
DESCRIPTION:The LifeSouth Bloodmobile will be in the West Campus parking lot. Please give\, donations stay local.
URL:https://providencealive.com/event/lifesouth-blood-drive-west-campus/
END:VEVENT
BEGIN:VEVENT
DTSTART;TZID=America/Chicago:20220605T180000
DTEND;TZID=America/Chicago:20220605T200000
DTSTAMP:20260421T071922
CREATED:20220208T182449Z
LAST-MODIFIED:20220510T212739Z
UID:12069-1654452000-1654459200@providencealive.com
SUMMARY:Vacation Bible School
DESCRIPTION:Vacation Bible School SPARK
URL:https://providencealive.com/event/vacation-bible-school/
END:VEVENT
BEGIN:VEVENT
DTSTART;TZID=America/Chicago:20220612T170000
DTEND;TZID=America/Chicago:20220612T180000
DTSTAMP:20260421T071922
CREATED:20220511T151819Z
LAST-MODIFIED:20220511T151951Z
UID:12207-1655053200-1655056800@providencealive.com
SUMMARY:Ladies Study Lies Women Believe 5/1-8/7
DESCRIPTION:Bible study for women: The lies Women Believe and the Truth that Sets them Free\, Nancy Wolgemuth exposes those areas of deception most commonly believed by Christian women\, lies about God\, sin\, priorities\, marriage and family\, emotion\, and more. This study will run through the summer and meets in the fellowship hall. Lynda Caswell\, WOVEN
URL:https://providencealive.com/event/ladies-study-lies-women-believe-5-1-8-7/
END:VEVENT
BEGIN:VEVENT
DTSTART;TZID=America/Chicago:20220613T100000
DTEND;TZID=America/Chicago:20220613T120000
DTSTAMP:20260421T071922
CREATED:20220511T151103Z
LAST-MODIFIED:20220511T151134Z
UID:12205-1655114400-1655121600@providencealive.com
SUMMARY:Pacesetter's Group Jeopardy
DESCRIPTION:Senior Adult’s come to play Group Jeopardy with us. We will have popcorn\, soft drinks\, and a fun time of fellowship.
URL:https://providencealive.com/event/pacesetters-jeopardy-game-day/
END:VEVENT
BEGIN:VEVENT
DTSTART;TZID=America/Chicago:20220621T170000
DTEND;TZID=America/Chicago:20220621T180000
DTSTAMP:20260421T071922
CREATED:20220511T150758Z
LAST-MODIFIED:20220511T150758Z
UID:12204-1655830800-1655834400@providencealive.com
SUMMARY:Pacesetters Ice Cream Social
DESCRIPTION:Senior Adults Homemade Ice Cream Social at David and Ada Ingram’s home.
URL:https://providencealive.com/event/pacesetters-ice-cream-social/
END:VEVENT
BEGIN:VEVENT
DTSTART;TZID=America/Chicago:20220625T093000
DTEND;TZID=America/Chicago:20220625T223000
DTSTAMP:20260421T071922
CREATED:20220610T165315Z
LAST-MODIFIED:20220610T165315Z
UID:12240-1656149400-1656196200@providencealive.com
SUMMARY:Animals of the Bible
DESCRIPTION:Montgomery Zoo Animals of the Bible Program \n9:30 AM geared towards younger children and 11:00 AM geared towards adults (mixed ages welcome at both shows) \nSign up Email Lynda Caswell  \nWOVEN Page
URL:https://providencealive.com/event/animals-of-the-bible/
END:VEVENT
BEGIN:VEVENT
DTSTART;TZID=America/Chicago:20220626T104500
DTEND;TZID=America/Chicago:20220626T114500
DTSTAMP:20260421T071922
CREATED:20220511T151357Z
LAST-MODIFIED:20220511T151357Z
UID:12206-1656240300-1656243900@providencealive.com
SUMMARY:Liberty Celebration
DESCRIPTION:Independence Day Service
URL:https://providencealive.com/event/liberty-celebration-2/
END:VEVENT
BEGIN:VEVENT
DTSTART;TZID=America/Chicago:20220703T170000
DTEND;TZID=America/Chicago:20220703T180000
DTSTAMP:20260421T071922
CREATED:20220511T151900Z
LAST-MODIFIED:20220511T151900Z
UID:12208-1656867600-1656871200@providencealive.com
SUMMARY:Ladies Study Lies Women Believe 5/1-8/7
DESCRIPTION:Bible study for women: The lies Women Believe and the Truth that Sets them Free\, Nancy Wolgemuth exposes those areas of deception most commonly believed by Christian women\, lies about God\, sin\, priorities\, marriage and family\, emotion\, and more. This study will run through the summer and meets in the fellowship hall. Lynda Caswell\, WOVEN
URL:https://providencealive.com/event/ladies-study-lies-women-believe-5-1-8-7-2/
END:VEVENT
BEGIN:VEVENT
DTSTART;TZID=America/Chicago:20220804T130000
DTEND;TZID=America/Chicago:20220804T170000
DTSTAMP:20260421T071922
CREATED:20220803T222129Z
LAST-MODIFIED:20220803T222129Z
UID:12288-1659618000-1659632400@providencealive.com
SUMMARY:IRT - Valley Healthcare Mission
DESCRIPTION:Valley Healthcare Mission Innovative Readiness Training\nMilitary personnel offering NO COST Vision\, Dental and Basic Medical Services\nProvidence West Campus
URL:https://providencealive.com/event/irt-valley-healthcare-mission/
END:VEVENT
BEGIN:VEVENT
DTSTART;TZID=America/Chicago:20220805T080000
DTEND;TZID=America/Chicago:20220805T170000
DTSTAMP:20260421T071922
CREATED:20220803T222500Z
LAST-MODIFIED:20220803T222500Z
UID:12291-1659686400-1659718800@providencealive.com
SUMMARY:IRT - Valley Healthcare Mission
DESCRIPTION:Valley Healthcare Mission Innovative Readiness Training\nMilitary personnel offering NO COST Vision\, Dental and Basic Medical Services\nProvidence West Campus
URL:https://providencealive.com/event/irt-valley-healthcare-mission-3/
END:VEVENT
BEGIN:VEVENT
DTSTART;TZID=America/Chicago:20220806T080000
DTEND;TZID=America/Chicago:20220806T170000
DTSTAMP:20260421T071922
CREATED:20220803T222306Z
LAST-MODIFIED:20220803T222333Z
UID:12290-1659772800-1659805200@providencealive.com
SUMMARY:IRT - Valley Healthcare Mission
DESCRIPTION:Valley Healthcare Mission Innovative Readiness Training\nMilitary personnel offering NO COST Vision\, Dental and Basic Medical Services\nProvidence West Campus
URL:https://providencealive.com/event/irt-valley-healthcare-mission-2/
END:VEVENT
BEGIN:VEVENT
DTSTART;TZID=America/Chicago:20220807T130000
DTEND;TZID=America/Chicago:20220807T170000
DTSTAMP:20260421T071922
CREATED:20220803T222550Z
LAST-MODIFIED:20220803T222617Z
UID:12292-1659877200-1659891600@providencealive.com
SUMMARY:IRT - Valley Healthcare Mission
DESCRIPTION:Valley Healthcare Mission Innovative Readiness Training\nMilitary personnel offering NO COST Vision\, Dental and Basic Medical Services\nProvidence West Campus
URL:https://providencealive.com/event/irt-valley-healthcare-mission-4/
END:VEVENT
BEGIN:VEVENT
DTSTART;TZID=America/Chicago:20220808T080000
DTEND;TZID=America/Chicago:20220808T170000
DTSTAMP:20260421T071922
CREATED:20220803T222729Z
LAST-MODIFIED:20220803T222729Z
UID:12293-1659945600-1659978000@providencealive.com
SUMMARY:IRT - Valley Healthcare Mission
DESCRIPTION:Valley Healthcare Mission Innovative Readiness Training\nMilitary personnel offering NO COST Vision\, Dental and Basic Medical Services\nProvidence West Campus
URL:https://providencealive.com/event/irt-valley-healthcare-mission-5/
END:VEVENT
END:VCALENDAR