BEGIN:VCALENDAR
VERSION:2.0
PRODID:-//Providence Baptist Church - ECPv6.6.4.2//NONSGML v1.0//EN
CALSCALE:GREGORIAN
METHOD:PUBLISH
X-WR-CALNAME:Providence Baptist Church
X-ORIGINAL-URL:https://providencealive.com
X-WR-CALDESC:Events for Providence Baptist Church
REFRESH-INTERVAL;VALUE=DURATION:PT1H
X-Robots-Tag:noindex
X-PUBLISHED-TTL:PT1H
BEGIN:VTIMEZONE
TZID:America/Chicago
BEGIN:DAYLIGHT
TZOFFSETFROM:-0600
TZOFFSETTO:-0500
TZNAME:CDT
DTSTART:20200308T080000
END:DAYLIGHT
BEGIN:STANDARD
TZOFFSETFROM:-0500
TZOFFSETTO:-0600
TZNAME:CST
DTSTART:20201101T070000
END:STANDARD
END:VTIMEZONE
BEGIN:VEVENT
DTSTART;TZID=America/Chicago:20200303T180000
DTEND;TZID=America/Chicago:20200303T190000
DTSTAMP:20260424T043601
CREATED:20200221T003845Z
LAST-MODIFIED:20200303T013512Z
UID:9904-1583258400-1583262000@providencealive.com
SUMMARY:A Night of Remembrance
DESCRIPTION:A Night of Remembrance\, on the one year anniversary of the Lee County tornado. Our focus is to remember the victims\, their families\, and reflect upon those who came from near and far to help us. It is also a moment to remember how our Lord has helped us and how He will continue to hold our hand.
URL:https://providencealive.com/event/a-night-of-remembrance/
LOCATION:West Campus
END:VEVENT
BEGIN:VEVENT
DTSTART;TZID=America/Chicago:20200303T170000
DTEND;TZID=America/Chicago:20200303T173000
DTSTAMP:20260424T043601
CREATED:20200221T003845Z
LAST-MODIFIED:20200303T013512Z
UID:9903-1583254800-1583256600@providencealive.com
SUMMARY:Memorial Ground Breaking
DESCRIPTION:Breaking ground for the memorial remembering the March 3\, 2019\, Lee County tornado.
URL:https://providencealive.com/event/memorial-ground-breaking/
LOCATION:West Campus
END:VEVENT
BEGIN:VEVENT
DTSTART;VALUE=DATE:20200303
DTEND;VALUE=DATE:20200304
DTSTAMP:20260424T043601
CREATED:20200221T003844Z
LAST-MODIFIED:20200303T013512Z
UID:9901-1583193600-1583279999@providencealive.com
SUMMARY:PBC EAST CAMPUS - POLL LOCATION
DESCRIPTION:
URL:https://providencealive.com/event/pbc-east-campus-poll-location/
END:VEVENT
BEGIN:VEVENT
DTSTART;TZID=America/Chicago:20200229T080000
DTEND;TZID=America/Chicago:20200229T120000
DTSTAMP:20260424T043601
CREATED:20200130T212123Z
LAST-MODIFIED:20200229T012317Z
UID:9829-1582963200-1582977600@providencealive.com
SUMMARY:RA Pinewood Derby
DESCRIPTION:Pinewood Derby Race\nBreakfast and Registration start at 8:00 a.m.
URL:https://providencealive.com/event/ra-pinewood-derby/
LOCATION:PBC East Campus
END:VEVENT
BEGIN:VEVENT
DTSTART;TZID=America/Chicago:20200228T170000
DTEND;TZID=America/Chicago:20200229T070000
DTSTAMP:20260424T043601
CREATED:20200130T212123Z
LAST-MODIFIED:20200229T012317Z
UID:9828-1582909200-1582959600@providencealive.com
SUMMARY:GA Sleepover
DESCRIPTION:GA’s Sleepover\nWest Campus
URL:https://providencealive.com/event/ga-sleepover/
LOCATION:PBC West Campus
END:VEVENT
BEGIN:VEVENT
DTSTART;TZID=America/Chicago:20200228T170000
DTEND;TZID=America/Chicago:20200228T220000
DTSTAMP:20260424T043601
CREATED:20200130T212123Z
LAST-MODIFIED:20200229T012317Z
UID:9827-1582909200-1582927200@providencealive.com
SUMMARY:RA Car Build
DESCRIPTION:RA’s building race cars and setting up track for Pinewood Derby
URL:https://providencealive.com/event/ra-car-build/
LOCATION:PBC East Campus
END:VEVENT
BEGIN:VEVENT
DTSTART;TZID=America/Chicago:20200226T180000
DTEND;TZID=America/Chicago:20200226T183000
DTSTAMP:20260424T043601
CREATED:20200130T212123Z
LAST-MODIFIED:20200226T010734Z
UID:9824-1582740000-1582741800@providencealive.com
SUMMARY:Prayer Meeting and Bible Study
DESCRIPTION:Meets in the East Campus Fellowship Hall
URL:https://providencealive.com/event/prayer-meeting-and-bible-study-28/
END:VEVENT
BEGIN:VEVENT
DTSTART;VALUE=DATE:20200221
DTEND;VALUE=DATE:20200223
DTSTAMP:20260424T043601
CREATED:20200126T205321Z
LAST-MODIFIED:20200222T004955Z
UID:9806-1582243200-1582415999@providencealive.com
SUMMARY:WOVEN Retreat
DESCRIPTION:Annual Ladies RetreatContact:Lynn Patterson\, mommyrose05@bellsouth.netJan Ward\, janward42007@gmail.comAleah Payne\, aphc12@gmail.com
URL:https://providencealive.com/event/woven-retreat/
LOCATION:Panama City Beach\, FL\, USA\, United States
END:VEVENT
BEGIN:VEVENT
DTSTART;TZID=America/Chicago:20200219T180000
DTEND;TZID=America/Chicago:20200219T183000
DTSTAMP:20260424T043601
CREATED:20200121T204033Z
LAST-MODIFIED:20200220T002141Z
UID:9788-1582135200-1582137000@providencealive.com
SUMMARY:Prayer Meeting and Bible Study
DESCRIPTION:Meets in the East Campus Fellowship Hall
URL:https://providencealive.com/event/prayer-meeting-and-bible-study-26/
END:VEVENT
BEGIN:VEVENT
DTSTART;TZID=America/Chicago:20200216T170000
DTEND;TZID=America/Chicago:20200216T183000
DTSTAMP:20260424T043601
CREATED:20200117T201549Z
LAST-MODIFIED:20200215T235438Z
UID:9776-1581872400-1581877800@providencealive.com
SUMMARY:OVERCOMER Bible Study
DESCRIPTION:Bible Study based on the movie\, Overcomer. Five sessions starting January 12\, 2020. No cost and open to everyone. Meeting in the East Campus Fellowship Hall at 5:00 p.m.
URL:https://providencealive.com/event/overcomer-bible-study-5/
LOCATION:Providence Baptist Church\, 2807 Lee County Rd 166\, Opelika\, AL 36804\, USA\, 2 Co Rd 166\, United States
END:VEVENT
BEGIN:VEVENT
DTSTART;TZID=America/Chicago:20200214T173000
DTEND;TZID=America/Chicago:20200214T193000
DTSTAMP:20260424T043601
CREATED:20200115T195210Z
LAST-MODIFIED:20200215T235437Z
UID:9768-1581701400-1581708600@providencealive.com
SUMMARY:Senior Adult Valentine Dinner
DESCRIPTION:Senior Adult Valentine DinnerWest Campus
URL:https://providencealive.com/event/senior-adult-valentine-dinner/
LOCATION:Providence Baptist Church\, 2807 Lee Road 166\, Opelika\, AL\, United States
END:VEVENT
BEGIN:VEVENT
DTSTART;TZID=America/Chicago:20200212T180000
DTEND;TZID=America/Chicago:20200212T183000
DTSTAMP:20260424T043601
CREATED:20200114T194435Z
LAST-MODIFIED:20200212T234927Z
UID:9764-1581530400-1581532200@providencealive.com
SUMMARY:Prayer Meeting and Bible Study
DESCRIPTION:Meets in the East Campus Fellowship Hall
URL:https://providencealive.com/event/prayer-meeting-and-bible-study-24/
END:VEVENT
BEGIN:VEVENT
DTSTART;TZID=America/Chicago:20200211T120000
DTEND;TZID=America/Chicago:20200211T130000
DTSTAMP:20260424T043601
CREATED:20200114T194434Z
LAST-MODIFIED:20200211T235128Z
UID:9761-1581422400-1581426000@providencealive.com
SUMMARY:Horseshoe Bend Bookmobile
DESCRIPTION:
URL:https://providencealive.com/event/horseshoe-bend-bookmobile-6/
END:VEVENT
BEGIN:VEVENT
DTSTART;TZID=America/Chicago:20200209T170000
DTEND;TZID=America/Chicago:20200209T183000
DTSTAMP:20260424T043601
CREATED:20200114T194434Z
LAST-MODIFIED:20200209T234619Z
UID:9760-1581267600-1581273000@providencealive.com
SUMMARY:OVERCOMER Bible Study
DESCRIPTION:Bible Study based on the movie\, Overcomer. Five sessions starting January 12\, 2020. No cost and open to everyone. Meeting in the East Campus Fellowship Hall at 5:00 p.m.
URL:https://providencealive.com/event/overcomer-bible-study-4/
LOCATION:Providence Baptist Church\, 2807 Lee County Rd 166\, Opelika\, AL 36804\, USA\, 2 Co Rd 166\, United States
END:VEVENT
BEGIN:VEVENT
DTSTART;TZID=America/Chicago:20200205T180000
DTEND;TZID=America/Chicago:20200205T183000
DTSTAMP:20260424T043601
CREATED:20200106T183601Z
LAST-MODIFIED:20200205T224516Z
UID:9726-1580925600-1580927400@providencealive.com
SUMMARY:Prayer Meeting and Bible Study
DESCRIPTION:Meets in the East Campus Fellowship Hall
URL:https://providencealive.com/event/prayer-meeting-and-bible-study-23/
END:VEVENT
BEGIN:VEVENT
DTSTART;TZID=America/Chicago:20200204T183000
DTEND;TZID=America/Chicago:20200204T193000
DTSTAMP:20260424T043601
CREATED:20200105T175706Z
LAST-MODIFIED:20200204T223143Z
UID:9723-1580841000-1580844600@providencealive.com
SUMMARY:Deacon Meeting
DESCRIPTION:Meets East Campus Room S203
URL:https://providencealive.com/event/deacon-meeting-5/
END:VEVENT
BEGIN:VEVENT
DTSTART;TZID=America/Chicago:20200202T170000
DTEND;TZID=America/Chicago:20200202T183000
DTSTAMP:20260424T043601
CREATED:20200114T194433Z
LAST-MODIFIED:20200202T220846Z
UID:9757-1580662800-1580668200@providencealive.com
SUMMARY:OVERCOMER Bible Study
DESCRIPTION:Bible Study based on the movie\, Overcomer. Five sessions starting January 12\, 2020. No cost and open to everyone. Meeting in the East Campus Fellowship Hall at 5:00 p.m.
URL:https://providencealive.com/event/overcomer-bible-study-3/
LOCATION:Providence Baptist Church\, 2807 Lee County Rd 166\, Opelika\, AL 36804\, USA\, 2 Co Rd 166\, United States
END:VEVENT
BEGIN:VEVENT
DTSTART;TZID=America/Chicago:20200202T140000
DTEND;TZID=America/Chicago:20200202T160000
DTSTAMP:20260424T043601
CREATED:20200114T194433Z
LAST-MODIFIED:20200202T220846Z
UID:9759-1580652000-1580659200@providencealive.com
SUMMARY:Bridal Shower
DESCRIPTION:Bridal Shower for Stacey Tally\, Bride-Elect of Brandon WatsonWest Campus Children’s Church Building
URL:https://providencealive.com/event/bridal-shower/
LOCATION:Providence Baptist Church\, 2807 Lee Road 166\, Opelika\, AL\, United States
END:VEVENT
BEGIN:VEVENT
DTSTART;TZID=America/Chicago:20200129T180000
DTEND;TZID=America/Chicago:20200129T183000
DTSTAMP:20260424T043601
CREATED:20191231T162152Z
LAST-MODIFIED:20200129T210703Z
UID:9705-1580320800-1580322600@providencealive.com
SUMMARY:Prayer Meeting and Bible Study
DESCRIPTION:Meets in the East Campus Fellowship Hall
URL:https://providencealive.com/event/prayer-meeting-and-bible-study-22/
END:VEVENT
BEGIN:VEVENT
DTSTART;TZID=America/Chicago:20200126T170000
DTEND;TZID=America/Chicago:20200126T183000
DTSTAMP:20260424T043601
CREATED:20200114T194432Z
LAST-MODIFIED:20200126T205318Z
UID:9754-1580058000-1580063400@providencealive.com
SUMMARY:OVERCOMER Bible Study
DESCRIPTION:Bible Study based on the movie\, Overcomer. Five sessions starting January 12\, 2020. No cost and open to everyone. Meeting in the East Campus Fellowship Hall at 5:00 p.m.
URL:https://providencealive.com/event/overcomer-bible-study-2/
LOCATION:Providence Baptist Church\, 2807 Lee County Rd 166\, Opelika\, AL 36804\, USA\, 2 Co Rd 166\, United States
END:VEVENT
BEGIN:VEVENT
DTSTART;TZID=America/Chicago:20200126T140000
DTEND;TZID=America/Chicago:20200126T150000
DTSTAMP:20260424T043601
CREATED:20200114T194432Z
LAST-MODIFIED:20200126T205318Z
UID:9756-1580047200-1580050800@providencealive.com
SUMMARY:Baby Shower
DESCRIPTION:Baby Boy Shower for Beth Pritchett (Wyatt Christopher Pritchett)Registries at Target and AmazonThe Adams Home\, 3201 Deer Run Street\, Opelika\, 36804
URL:https://providencealive.com/event/baby-shower/
LOCATION:Karesa Adams Home
END:VEVENT
BEGIN:VEVENT
DTSTART;TZID=America/Chicago:20200122T180000
DTEND;TZID=America/Chicago:20200122T183000
DTSTAMP:20260424T043601
CREATED:20191223T152655Z
LAST-MODIFIED:20200122T204823Z
UID:9682-1579716000-1579717800@providencealive.com
SUMMARY:Prayer Meeting and Bible Study
DESCRIPTION:Meets in the East Campus Fellowship Hall
URL:https://providencealive.com/event/prayer-meeting-and-bible-study-21/
END:VEVENT
BEGIN:VEVENT
DTSTART;TZID=America/Chicago:20200119T170000
DTEND;TZID=America/Chicago:20200119T183000
DTSTAMP:20260424T043601
CREATED:20200114T194431Z
LAST-MODIFIED:20200119T203041Z
UID:9753-1579453200-1579458600@providencealive.com
SUMMARY:OVERCOMER Bible Study
DESCRIPTION:Bible Study based on the movie\, Overcomer. Five sessions starting January 12\, 2020. No cost and open to everyone. Meeting in the East Campus Fellowship Hall at 5:00 p.m.
URL:https://providencealive.com/event/overcomer-bible-study/
LOCATION:Providence Baptist Church\, 2807 Lee County Rd 166\, Opelika\, AL 36804\, USA\, 2 Co Rd 166\, United States
END:VEVENT
BEGIN:VEVENT
DTSTART;TZID=America/Chicago:20200116T173000
DTEND;TZID=America/Chicago:20200116T190000
DTSTAMP:20260424T043601
CREATED:20200114T194430Z
LAST-MODIFIED:20200117T201543Z
UID:9752-1579195800-1579201200@providencealive.com
SUMMARY:Mend Support Group
DESCRIPTION:EAMC/Mend Tornado Support Group meetingFellowship Hall
URL:https://providencealive.com/event/mend-support-group-2/
LOCATION:Providence Baptist Church\, 2807 Lee County Rd 166\, Opelika\, AL 36804\, USA\, 2 Co Rd 166\, United States
END:VEVENT
BEGIN:VEVENT
DTSTART;TZID=America/Chicago:20200115T180000
DTEND;TZID=America/Chicago:20200115T183000
DTSTAMP:20260424T043601
CREATED:20191216T142208Z
LAST-MODIFIED:20200115T195204Z
UID:9661-1579111200-1579113000@providencealive.com
SUMMARY:Prayer Meeting and Bible Study
DESCRIPTION:Meets in the East Campus Fellowship Hall
URL:https://providencealive.com/event/prayer-meeting-and-bible-study-20/
END:VEVENT
BEGIN:VEVENT
DTSTART;TZID=America/Chicago:20200114T120000
DTEND;TZID=America/Chicago:20200114T130000
DTSTAMP:20260424T043601
CREATED:20191215T140346Z
LAST-MODIFIED:20200114T194429Z
UID:9656-1579003200-1579006800@providencealive.com
SUMMARY:Horseshoe Bend Bookmobile
DESCRIPTION:
URL:https://providencealive.com/event/horseshoe-bend-bookmobile-5/
END:VEVENT
BEGIN:VEVENT
DTSTART;TZID=America/Chicago:20200111T150000
DTEND;TZID=America/Chicago:20200111T153000
DTSTAMP:20260424T043601
CREATED:20191212T130607Z
LAST-MODIFIED:20200111T185058Z
UID:9646-1578754800-1578756600@providencealive.com
SUMMARY:WOVEN Ladies Event
DESCRIPTION:WOVEN\, Ladies Ministry\, hosting New Year’s Resolutions and Solutions in the fellowship hall.
URL:https://providencealive.com/event/woven-ladies-event/
LOCATION:PBC East Campus
END:VEVENT
BEGIN:VEVENT
DTSTART;TZID=America/Chicago:20200108T180000
DTEND;TZID=America/Chicago:20200108T183000
DTSTAMP:20260424T043601
CREATED:20191209T122236Z
LAST-MODIFIED:20200108T183409Z
UID:9636-1578506400-1578508200@providencealive.com
SUMMARY:Prayer Meeting and Bible Study
DESCRIPTION:Meets in the East Campus Fellowship Hall
URL:https://providencealive.com/event/prayer-meeting-and-bible-study-19/
END:VEVENT
BEGIN:VEVENT
DTSTART;TZID=America/Chicago:20200107T183000
DTEND;TZID=America/Chicago:20200107T193000
DTSTAMP:20260424T043601
CREATED:20191208T122255Z
LAST-MODIFIED:20200107T183123Z
UID:9633-1578421800-1578425400@providencealive.com
SUMMARY:Deacon Meeting
DESCRIPTION:Meets East Campus Room S203
URL:https://providencealive.com/event/deacon-meeting-4/
END:VEVENT
BEGIN:VEVENT
DTSTART;TZID=America/Chicago:20200101T180000
DTEND;TZID=America/Chicago:20200101T183000
DTSTAMP:20260424T043601
CREATED:20191202T104758Z
LAST-MODIFIED:20191202T104758Z
UID:9597-1577901600-1577903400@providencealive.com
SUMMARY:Prayer Meeting and Bible Study
DESCRIPTION:Meets in the East Campus Fellowship Hall
URL:https://providencealive.com/event/prayer-meeting-and-bible-study-18/
END:VEVENT
END:VCALENDAR