BEGIN:VCALENDAR
VERSION:2.0
PRODID:-//Providence Baptist Church - ECPv6.6.4.2//NONSGML v1.0//EN
CALSCALE:GREGORIAN
METHOD:PUBLISH
X-ORIGINAL-URL:https://providencealive.com
X-WR-CALDESC:Events for Providence Baptist Church
REFRESH-INTERVAL;VALUE=DURATION:PT1H
X-Robots-Tag:noindex
X-PUBLISHED-TTL:PT1H
BEGIN:VTIMEZONE
TZID:America/Chicago
BEGIN:DAYLIGHT
TZOFFSETFROM:-0600
TZOFFSETTO:-0500
TZNAME:CDT
DTSTART:20210314T080000
END:DAYLIGHT
BEGIN:STANDARD
TZOFFSETFROM:-0500
TZOFFSETTO:-0600
TZNAME:CST
DTSTART:20211107T070000
END:STANDARD
BEGIN:DAYLIGHT
TZOFFSETFROM:-0600
TZOFFSETTO:-0500
TZNAME:CDT
DTSTART:20220313T080000
END:DAYLIGHT
BEGIN:STANDARD
TZOFFSETFROM:-0500
TZOFFSETTO:-0600
TZNAME:CST
DTSTART:20221106T070000
END:STANDARD
END:VTIMEZONE
BEGIN:VEVENT
DTSTART;TZID=America/Chicago:20211213T190000
DTEND;TZID=America/Chicago:20211213T200000
DTSTAMP:20260419T122544
CREATED:20211103T150723Z
LAST-MODIFIED:20211206T195105Z
UID:11865-1639422000-1639425600@providencealive.com
SUMMARY:One Quiet Night Musical
DESCRIPTION:Sunday Night\, December 12\, 5:00 p.m. and 7:00 p.m.\nMonday Night\, December 13\, 7:00 p.m.\nWest Campus\nOne Quiet Night\nA Dramatic Musical for Christmas \nThis musical will be presented by the Providence Church Choir and Drama Ministry. The musical is set in modern times and reminds us of the things that are really\nimportant during our active celebration of Christmas. \nAdmission is free; however\, free tickets are available at the church in order to prevent overflow crowds on a particular night. Tickets will be available in the Lobby of the West Campus during Sunday morning services and in the Church Office at the East Campus. Contact the Church Office at 334.745.4608 to reserve tickets for pick-up. \n 
URL:https://providencealive.com/event/one-quiet-night-musical-2/
END:VEVENT
BEGIN:VEVENT
DTSTART;TZID=America/Chicago:20211219T170000
DTEND;TZID=America/Chicago:20211219T180000
DTSTAMP:20260419T122544
CREATED:20211102T213516Z
LAST-MODIFIED:20211102T213516Z
UID:11857-1639933200-1639936800@providencealive.com
SUMMARY:A Candlelight Service of Carols and Communion
DESCRIPTION:Sunday Night\, December 19\, 5:00 p.m.\nWest Campus\nA Candlelight Service of Carols and Communion \nThis worship time for the entire family is one of the favorite Christmas events for the Providence family and the Beauregard Community. The service is simple and is family-centered as carols are sung and communion is served with families coming to the communion table for a time of reflection of the real meaning of Christmas. \nAdmission is free and no tickets are required.
URL:https://providencealive.com/event/a-candlelight-service-of-carols-and-communion/
END:VEVENT
BEGIN:VEVENT
DTSTART;TZID=America/Chicago:20211224T080000
DTEND;TZID=America/Chicago:20211224T170000
DTSTAMP:20260419T122544
CREATED:20211103T155443Z
LAST-MODIFIED:20211103T155443Z
UID:11874-1640332800-1640365200@providencealive.com
SUMMARY:Christmas Eve
DESCRIPTION:
URL:https://providencealive.com/event/christmas-eve-2/
END:VEVENT
BEGIN:VEVENT
DTSTART;TZID=America/Chicago:20211225T080000
DTEND;TZID=America/Chicago:20211225T170000
DTSTAMP:20260419T122544
CREATED:20211103T155104Z
LAST-MODIFIED:20211103T155119Z
UID:11870-1640419200-1640451600@providencealive.com
SUMMARY:Christmas
DESCRIPTION:
URL:https://providencealive.com/event/christmas/
END:VEVENT
BEGIN:VEVENT
DTSTART;TZID=America/Chicago:20211231T080000
DTEND;TZID=America/Chicago:20211231T170000
DTSTAMP:20260419T122544
CREATED:20211103T155148Z
LAST-MODIFIED:20211103T155417Z
UID:11872-1640937600-1640970000@providencealive.com
SUMMARY:New Year's Eve
DESCRIPTION:
URL:https://providencealive.com/event/christmas-eve/
END:VEVENT
BEGIN:VEVENT
DTSTART;TZID=America/Chicago:20220111T120000
DTEND;TZID=America/Chicago:20220111T130000
DTSTAMP:20260419T122544
CREATED:20220103T215538Z
LAST-MODIFIED:20220103T215538Z
UID:11944-1641902400-1641906000@providencealive.com
SUMMARY:Horseshoe Bend Bookmobile
DESCRIPTION:The Horseshoe Bend Bookmobile will be in the church parking lot\, available to the community.
URL:https://providencealive.com/event/horseshoe-bend-bookmobile-14/
END:VEVENT
BEGIN:VEVENT
DTSTART;TZID=America/Chicago:20220111T180000
DTEND;TZID=America/Chicago:20220111T193000
DTSTAMP:20260419T122544
CREATED:20220103T214506Z
LAST-MODIFIED:20220103T214603Z
UID:11940-1641924000-1641929400@providencealive.com
SUMMARY:King's Kids Begins Weekly
DESCRIPTION:King’s Kids will begin again following Christmas break. King’s Kids is for children\, kindergarten through 6th grade. The evening involves learning scripture\, crafts\, games\, singing\, service projects\, parties\, and surprises that all revolve around the evening’s Bible story. King’s Kids meets at the East Campus. Contact: Mrs. Tammy Senn or Miss Mandy Steward
URL:https://providencealive.com/event/kings-kids-begins/
END:VEVENT
BEGIN:VEVENT
DTSTART;TZID=America/Chicago:20220112T100000
DTEND;TZID=America/Chicago:20220112T233000
DTSTAMP:20260419T122544
CREATED:20220103T215038Z
LAST-MODIFIED:20220103T215134Z
UID:11941-1641981600-1642030200@providencealive.com
SUMMARY:Pacesetter M&Ms Begins Weekly
DESCRIPTION:Pacesetters\, Senior Adults\, M&M’s (Music and Motion) will start back after Christmas break. Low-impact exercise made fun. Contact: Deana Stone
URL:https://providencealive.com/event/pacesetter-mms/
END:VEVENT
BEGIN:VEVENT
DTSTART;TZID=America/Chicago:20220112T170000
DTEND;TZID=America/Chicago:20220112T200000
DTSTAMP:20260419T122544
CREATED:20220103T213828Z
LAST-MODIFIED:20220103T214638Z
UID:11938-1642006800-1642017600@providencealive.com
SUMMARY:Choirs Begin Weekly
DESCRIPTION:Choirs Begin Again After Christmas Break \nGolden Notes @ 5:00 p.m. (West Campus) \nChurch Choir @ 6:45 p.m. (West Campus) \nContact: Dr. Tom Smith
URL:https://providencealive.com/event/choirs-begin/
END:VEVENT
BEGIN:VEVENT
DTSTART;TZID=America/Chicago:20220113T113000
DTEND;TZID=America/Chicago:20220113T133000
DTSTAMP:20260419T122544
CREATED:20220103T205603Z
LAST-MODIFIED:20220103T205603Z
UID:11932-1642073400-1642080600@providencealive.com
SUMMARY:Pacesetters Lunch Bunch
DESCRIPTION:Pacesetters\, Senior Adults\, will be going to Highway 80 Barn for lunch. Leaving church at 11:30 a.m. Only 27 seats are available on the buses\, so sign up quickly if you want to ride\, or you can meet us there. Sign up\, either way\, so we have a number to tell the restaurant. Contact: Deana Stone
URL:https://providencealive.com/event/pacesetters-lunch-bunch-2/
END:VEVENT
BEGIN:VEVENT
DTSTART;TZID=America/Chicago:20220116T170000
DTEND;TZID=America/Chicago:20220116T190000
DTSTAMP:20260419T122544
CREATED:20220103T210344Z
LAST-MODIFIED:20220208T164538Z
UID:11936-1642352400-1642359600@providencealive.com
SUMMARY:Study\, Forgotten God\, Toni Long\,  Jan 16-Feb 13
DESCRIPTION:Deeper Roots Class Forgotten God \nSunday\, January 16 to February 13  |  Fellowship Hall\n4:30 p.m. coffee and fellowship\n5:00 p.m. study \nLed by Toni Long \nFORGOTTEN GOD\nReversing Our Tragic Neglect of the Holy Spirit\nIn the name of the Father\, the Son\, and … the Holy Spirit. We pray in the name of all three\, but how often do we live with an awareness of only the first two? As Jesus ascended into heaven\, He promised to send the Holy Spirit—the Helper—so that we could be true and living witnesses for Christ. Unfortunately\, today’s church has admired the gift but neglected to open it. \nBreakthrough author Francis Chan rips away paper and bows to get at the true source of the church’s power—the Holy Spirit. Chan contends that we’ve ignored the Spirit for far too long\, and we are reaping the disastrous results. Thorough scriptural support and compelling narrative form Chan’s invitation to stop and remember the One we’ve forgotten\, the Spirit of the living God. \nDiscipleship – Deeper Roots
URL:https://providencealive.com/event/deeper-roots-winter-session/
END:VEVENT
BEGIN:VEVENT
DTSTART;TZID=America/Chicago:20220124T100000
DTEND;TZID=America/Chicago:20220124T120000
DTSTAMP:20260419T122544
CREATED:20220103T210026Z
LAST-MODIFIED:20220103T211811Z
UID:11935-1643018400-1643025600@providencealive.com
SUMMARY:Pacesetters Group Jeopardy & Goodies!
DESCRIPTION:Pacesetters\, Senior Adults\, come join us for a time of fellowship and fun at the West Campus. Contact: Deana Stone
URL:https://providencealive.com/event/pacesetters-group-jeopardy-goodies/
END:VEVENT
BEGIN:VEVENT
DTSTART;TZID=America/Chicago:20220211T180000
DTEND;TZID=America/Chicago:20220211T193000
DTSTAMP:20260419T122544
CREATED:20220121T183151Z
LAST-MODIFIED:20220121T184521Z
UID:12023-1644602400-1644607800@providencealive.com
SUMMARY:WOVEN Mugs & Muffins\, IMB Speaker
DESCRIPTION:Women’s Ministry having a Soup Supper and the Guest Speaker will be an International Missionary with the  IMB (International Mission Board)\nmeeting at the West Campus. \nContact Lynda Caswell \nWOVEN Women of the Vine Encouraging and Nurturing
URL:https://providencealive.com/event/woven-mugs-muffins/
END:VEVENT
BEGIN:VEVENT
DTSTART;TZID=America/Chicago:20220215T180000
DTEND;TZID=America/Chicago:20220215T190000
DTSTAMP:20260419T122544
CREATED:20220208T181209Z
LAST-MODIFIED:20220208T181209Z
UID:12064-1644948000-1644951600@providencealive.com
SUMMARY:EACC/EAYC Sparkle and Shine
DESCRIPTION:East Alabama Children’s Choir and East Alabama Youth Chorale Concert Performance\, under the direction of Dr. Tom and Gayle Smith \nWest Campus
URL:https://providencealive.com/event/eacc-eayc-sparkle-and-shine/
END:VEVENT
BEGIN:VEVENT
DTSTART;TZID=America/Chicago:20220216T113000
DTEND;TZID=America/Chicago:20220216T123000
DTSTAMP:20260419T122544
CREATED:20220208T172217Z
LAST-MODIFIED:20220208T172405Z
UID:12059-1645011000-1645014600@providencealive.com
SUMMARY:Luncheon - Soup's On
DESCRIPTION:Vegetable Soup and Cornbread\nEverything will be provided including dessert and tea. \nCarry-out will be available for those that are not comfortable dining in. Tables will be set up\, and spaced out\, for those choosing to dine in. \nCommunity Luncheons meet at the West Campus\n11:00 a.m. for coffee/fellowship\n11:30 a.m. for the meal \nCommunity Luncheon
URL:https://providencealive.com/event/luncheon-soups-on/
END:VEVENT
BEGIN:VEVENT
DTSTART;TZID=America/Chicago:20220220T170000
DTEND;TZID=America/Chicago:20220220T180000
DTSTAMP:20260419T122544
CREATED:20220114T164737Z
LAST-MODIFIED:20220217T224210Z
UID:12014-1645376400-1645380000@providencealive.com
SUMMARY:The Revelation of Jesus Christ\, Ann Hillyer\, Feb 20 - April 10
DESCRIPTION:Eight-Week Study taught by Ann Hillyer\nThe Revelation of Jesus Christ\nFocusing on what God is doing\, has done\, and will do in the future \nSunday\, February 20 to April 10\n5:00 to 6:00 p.m. at the West Campus\n4:30 p.m. for coffee and fellowship \nCost $10 per booklet\, payable by cash or check at the first meeting\, make checks payable to HaShem Ministries \nDiscipleship – Deeper Roots \nRegister @ HaShem Ministries
URL:https://providencealive.com/event/deeper-roots-book-of-revelation-feb-20-april-3/
END:VEVENT
BEGIN:VEVENT
DTSTART;TZID=America/Chicago:20220221T100000
DTEND;TZID=America/Chicago:20220221T110000
DTSTAMP:20260419T122544
CREATED:20220208T173059Z
LAST-MODIFIED:20220208T173157Z
UID:12060-1645437600-1645441200@providencealive.com
SUMMARY:Pacesetter's Jeopardy
DESCRIPTION:Senior Adult Ministry\, Pacesetters\, Game Day\, Group Jeopardy\nGames\, prizes\, and delicious treats.\nMeeting at West Campus \nContact Senior Adult Minister Deana Stone \nSenior Adult Ministry
URL:https://providencealive.com/event/pacesetters-jeopardy/
END:VEVENT
BEGIN:VEVENT
DTSTART;TZID=America/Chicago:20220225T180000
DTEND;TZID=America/Chicago:20220226T180000
DTSTAMP:20260419T122544
CREATED:20220103T222049Z
LAST-MODIFIED:20220103T222049Z
UID:11996-1645812000-1645898400@providencealive.com
SUMMARY:College Students PURSUE Conference
DESCRIPTION:PURSUE Conference at First Baptist Church Opelika.  This conference is a gathering of college students from across the state of Alabama. Contact: Shannon Hughes
URL:https://providencealive.com/event/college-students-pursue-conference/
END:VEVENT
BEGIN:VEVENT
DTSTART;TZID=America/Chicago:20220303T170000
DTEND;TZID=America/Chicago:20220303T183000
DTSTAMP:20260419T122544
CREATED:20220217T173654Z
LAST-MODIFIED:20220217T173821Z
UID:12083-1646326800-1646332200@providencealive.com
SUMMARY:March 3rd Anniversary Picnic
DESCRIPTION:This picnic is before the evening memorial service and is for those who were involved and impacted by the tornado event in 2019. This includes families impacted\, volunteers who assisted\, and responders. The Lee County\, Alabama Emergency Management Agency will host at Providence Baptist Church. \nMarch 3rd Anniversary Picnic
URL:https://providencealive.com/event/march-3rd-anniversary-picnic/
END:VEVENT
BEGIN:VEVENT
DTSTART;TZID=America/Chicago:20220303T190000
DTEND;TZID=America/Chicago:20220303T200000
DTSTAMP:20260419T122544
CREATED:20220208T180137Z
LAST-MODIFIED:20220208T180137Z
UID:12061-1646334000-1646337600@providencealive.com
SUMMARY:Candlelight Memorial
DESCRIPTION:The Memorial Service is a time to reflect on the tragedy of the March 3\, 2019\, Lee County tornado; the loss of life\, the injuries\, the physical damage\, and the continued emotional healing. We’ve learned how fragile life is and unpredictable. Yet\, through it all\, our Lord and His people have been and continue to be faithful. God is good all the time. All the time\, God is good. \nWest Campus
URL:https://providencealive.com/event/candlelight-memorial/
END:VEVENT
BEGIN:VEVENT
DTSTART;TZID=America/Chicago:20220322T160000
DTEND;TZID=America/Chicago:20220322T180000
DTSTAMP:20260419T122544
CREATED:20220217T174640Z
LAST-MODIFIED:20220217T175701Z
UID:12084-1647964800-1647972000@providencealive.com
SUMMARY:PBC Kids Mission Adventure
DESCRIPTION:Spring Break Project for 3rd -6th graders\, we will go to the East Alabama Food Bank\, tour the facility and help out. \nContact Tammy Senn
URL:https://providencealive.com/event/pbc-kids-mission-adventure/
END:VEVENT
BEGIN:VEVENT
DTSTART;TZID=America/Chicago:20220323T110000
DTEND;TZID=America/Chicago:20220323T123000
DTSTAMP:20260419T122544
CREATED:20220217T175338Z
LAST-MODIFIED:20220217T175338Z
UID:12086-1648033200-1648038600@providencealive.com
SUMMARY:PBC Kids Service Adventure
DESCRIPTION:Spring Break Service Adventure for K-6th graders\, help with the Community Luncheon. \nContact Tammy Senn
URL:https://providencealive.com/event/pbc-kids-service-adventure/
END:VEVENT
BEGIN:VEVENT
DTSTART;TZID=America/Chicago:20220323T113000
DTEND;TZID=America/Chicago:20220323T123000
DTSTAMP:20260419T122544
CREATED:20220208T180751Z
LAST-MODIFIED:20220208T180938Z
UID:12062-1648035000-1648038600@providencealive.com
SUMMARY:Spring Community Luncheon
DESCRIPTION:The March Community Luncheon will be held on the 4th Wednesday\, during Spring Break for our Lee County children. Our PBC Kids will be joining us.\nIf you are not comfortable dining in\, you are welcome to get a take-out. \n11:00 a.m. coffee/fellowship\n11:30 a.m. meal \nWest Campus \n(Next month we return to the 3rd Wednesday of each month)
URL:https://providencealive.com/event/spring-community-luncheon/
END:VEVENT
BEGIN:VEVENT
DTSTART;TZID=America/Chicago:20220324T110000
DTEND;TZID=America/Chicago:20220324T140000
DTSTAMP:20260419T122544
CREATED:20220217T175021Z
LAST-MODIFIED:20220217T175516Z
UID:12085-1648119600-1648130400@providencealive.com
SUMMARY:PBC Kids Fun Adventure
DESCRIPTION:Spring Break Fun Adventure for K-6th students\, we will go to the new Crumbl Cookie\, then come back to the West Campus for a movie. \nContact Tammy Senn
URL:https://providencealive.com/event/pbc-kids-fun-adventure/
END:VEVENT
BEGIN:VEVENT
DTSTART;TZID=America/Chicago:20220408T180000
DTEND;TZID=America/Chicago:20220408T200000
DTSTAMP:20260419T122544
CREATED:20220310T181142Z
LAST-MODIFIED:20220310T181142Z
UID:12109-1649440800-1649448000@providencealive.com
SUMMARY:WOVEN Spuds and Splatters
DESCRIPTION:Baked Potato Bar and Painting Party. We will be painting a beautiful spring picture\, a field full of dandelions. Limited space\, please sign up early. No experience is necessary. \nWOVEN: Women of Vine Encouraging and Nurturing \nWOVEN at Providence on Facebook \n 
URL:https://providencealive.com/event/woven-spuds-and-splatters/
END:VEVENT
BEGIN:VEVENT
DTSTART;TZID=America/Chicago:20220414T160000
DTEND;TZID=America/Chicago:20220414T200000
DTSTAMP:20260419T122544
CREATED:20220310T185933Z
LAST-MODIFIED:20220414T164831Z
UID:12111-1649952000-1649966400@providencealive.com
SUMMARY:Simply Still Passion Week Observation
DESCRIPTION:Open to everyone\, Simply Still is a music and visual worship experience that will lead worshippers through the footsteps of Jesus\, from Palm Sunday through the Resurrection. The program is about 45 minutes in length.  Starts at 4PM\, 5PM\, 6PM\, 7PM\, 8PM. Hosted by WOVEN in the PBC East Campus Sanctuary
URL:https://providencealive.com/event/simply-still-passion-week-observation/
END:VEVENT
BEGIN:VEVENT
DTSTART;TZID=America/Chicago:20220416T100000
DTEND;TZID=America/Chicago:20220416T113000
DTSTAMP:20260419T122544
CREATED:20220404T193022Z
LAST-MODIFIED:20220404T193029Z
UID:12134-1650103200-1650108600@providencealive.com
SUMMARY:PBC Kid's EGG-STRA Fun
DESCRIPTION:Join us for an EGG-STRA fun time. We will have some fun activities planned for kids Pre/K – 6th Grade. Parents are welcome to stay or you may drop them off! We will meet in the Fellowship Hall of the East Campus.
URL:https://providencealive.com/event/pbc-kids-egg-stra-fun/
END:VEVENT
BEGIN:VEVENT
DTSTART;TZID=America/Chicago:20220417T080000
DTEND;TZID=America/Chicago:20220417T104500
DTSTAMP:20260419T122544
CREATED:20220404T200151Z
LAST-MODIFIED:20220404T200151Z
UID:12135-1650182400-1650192300@providencealive.com
SUMMARY:EASTER SUNDAY
DESCRIPTION:We will observe communion at both the 8:00 AM Service and the 10:45 AM Sevice. Both services will be at the West Campus.  Sunday School will meet at 9:30 a.m. as usual.
URL:https://providencealive.com/event/easter-sunday/
END:VEVENT
BEGIN:VEVENT
DTSTART;TZID=America/Chicago:20220419T180000
DTEND;TZID=America/Chicago:20220419T193000
DTSTAMP:20260419T122544
CREATED:20220404T192634Z
LAST-MODIFIED:20220404T192634Z
UID:12132-1650391200-1650396600@providencealive.com
SUMMARY:Pacesetter's Cracker Barrel
DESCRIPTION:Pacesetter’s Meet and Eat at Cracker Barrel in Opelika. Let us know if you plan to ride the church bus. \nContact: Deana Stone \n  \n 
URL:https://providencealive.com/event/pacesetters-cracker-barrel/
END:VEVENT
BEGIN:VEVENT
DTSTART;TZID=America/Chicago:20220420T113000
DTEND;TZID=America/Chicago:20220420T123000
DTSTAMP:20260419T122544
CREATED:20220208T181526Z
LAST-MODIFIED:20220208T181555Z
UID:12065-1650454200-1650457800@providencealive.com
SUMMARY:Community Luncheon
DESCRIPTION:Community Luncheons meet on the third Wednesday of each month. All food will be provided. \n11:00 a.m. coffee/fellowship\n11:30 a.m. meal \nWest Campus \nCommunity Luncheon
URL:https://providencealive.com/event/community-luncheon-15/
END:VEVENT
END:VCALENDAR